BEGIN:VCALENDAR
VERSION:2.0
PRODID:-//Chalice Christian Church - ECPv6.15.17.1//NONSGML v1.0//EN
CALSCALE:GREGORIAN
METHOD:PUBLISH
X-ORIGINAL-URL:https://www.chalicechristian.org
X-WR-CALDESC:Events for Chalice Christian Church
REFRESH-INTERVAL;VALUE=DURATION:PT1H
X-Robots-Tag:noindex
X-PUBLISHED-TTL:PT1H
BEGIN:VTIMEZONE
TZID:UTC
BEGIN:STANDARD
TZOFFSETFROM:+0000
TZOFFSETTO:+0000
TZNAME:UTC
DTSTART:20230101T000000
END:STANDARD
END:VTIMEZONE
BEGIN:VTIMEZONE
TZID:America/Denver
BEGIN:DAYLIGHT
TZOFFSETFROM:-0700
TZOFFSETTO:-0600
TZNAME:MDT
DTSTART:20230312T090000
END:DAYLIGHT
BEGIN:STANDARD
TZOFFSETFROM:-0600
TZOFFSETTO:-0700
TZNAME:MST
DTSTART:20231105T080000
END:STANDARD
BEGIN:DAYLIGHT
TZOFFSETFROM:-0700
TZOFFSETTO:-0600
TZNAME:MDT
DTSTART:20240310T090000
END:DAYLIGHT
BEGIN:STANDARD
TZOFFSETFROM:-0600
TZOFFSETTO:-0700
TZNAME:MST
DTSTART:20241103T080000
END:STANDARD
BEGIN:DAYLIGHT
TZOFFSETFROM:-0700
TZOFFSETTO:-0600
TZNAME:MDT
DTSTART:20250309T090000
END:DAYLIGHT
BEGIN:STANDARD
TZOFFSETFROM:-0600
TZOFFSETTO:-0700
TZNAME:MST
DTSTART:20251102T080000
END:STANDARD
END:VTIMEZONE
BEGIN:VEVENT
DTSTART;TZID=UTC:20240813T190000
DTEND;TZID=UTC:20240813T203000
DTSTAMP:20260421T210210
CREATED:20240225T201103Z
LAST-MODIFIED:20240811T222922Z
UID:3133-1723575600-1723581000@www.chalicechristian.org
SUMMARY:Chalice Anti-Racism Book Study
DESCRIPTION:Have you wanted to do more to oppose racism?  Now’s your chance!  Join a weekly anti-racism book study starting Tuesday\, March 12 at 7:00pm\, on Zoom.  We will begin with Isabel Wilkerson’s Caste: The Origins of Our Discontents.  The book explores\, “through an immersive\, deeply researched narrative and stories about real people\, how America today and throughout its history has been shaped by a hidden Caste system\, a rigid hierarchy of human rankings.”  Wilkerson writes superbly\, and reveals roots and effects you may never have considered.  We will read a portion ahead of the meeting\, and then converse about what we’ve read\, asking questions of ourselves\, each other\, and our society — and how we might take action. \nHere’s the Zoom link:  https://us06web.zoom.us/j/81521989547?pwd=UdDarVvfLafvciRtQxOQfr62QsRjPU.1\nMeeting ID: 815 2198 9547\nPasscode: 106807 \nSee you there on March 12!
URL:https://www.chalicechristian.org/event/chalice-anti-racism-book-study/
LOCATION:AZ
END:VEVENT
BEGIN:VEVENT
DTSTART;TZID=America/Denver:20240814T120000
DTEND;TZID=America/Denver:20240814T123000
DTSTAMP:20260421T210210
CREATED:20240304T014709Z
LAST-MODIFIED:20240811T222847Z
UID:3145-1723636800-1723638600@www.chalicechristian.org
SUMMARY:Midweek Prayer with Pastor Jay Deskins
DESCRIPTION:Midweek Prayer Time with Pastor Jay Starts March 6th\nMany people find themselves midweek in need of a time for prayer. Each Wednesday from 11:30am-12:00pm there will be an online opportunity for you to come\, engage with different spiritual practices\, have quiet time together\, and pray with our community. Come as often as you need!\nHere is the Google Meets Link \nFeel free to share.
URL:https://www.chalicechristian.org/event/midweek-prayer-with-pastor-jay-deskins/
LOCATION:AZ
END:VEVENT
BEGIN:VEVENT
DTSTART;TZID=America/Denver:20240818T100000
DTEND;TZID=America/Denver:20240818T111500
DTSTAMP:20260421T210210
CREATED:20230623T160918Z
LAST-MODIFIED:20240811T222739Z
UID:3019-1723975200-1723979700@www.chalicechristian.org
SUMMARY:Sunday Services
DESCRIPTION:Every Sunday morning\, Chalice holds hybrid services.  Here.  or this Meeting ID: 688 779 1824  passcode is “church”. \n  \nYou can connect with us via our: \nYouTubeChannel (click on the subscribe button and you will get notification when a post is made) – https://www.youtube.com/channel/UCLTaK6qPgXflAMGvxsPHHkQ/featured  and our Facebook Page – https://www.facebook.com/chalice.church
URL:https://www.chalicechristian.org/event/sunday-services/
LOCATION:AZ
END:VEVENT
BEGIN:VEVENT
DTSTART;TZID=America/Denver:20240818T111500
DTEND;TZID=America/Denver:20240818T120000
DTSTAMP:20260421T210210
CREATED:20220319T234938Z
LAST-MODIFIED:20240811T222154Z
UID:2870-1723979700-1723982400@www.chalicechristian.org
SUMMARY:Adult Sunday School : Book Study
DESCRIPTION:Zoom Link: Here \nLink to the Book : Here
URL:https://www.chalicechristian.org/event/lifeswork/
LOCATION:Chalice Christian Church\, 15303 South Gilbert Rd.\, Gilbert\, AZ\, 15303 South Gilbert Road\, Gilbert\, AZ\, 85296\, United States
END:VEVENT
BEGIN:VEVENT
DTSTART;TZID=America/Denver:20240825T090000
DTEND;TZID=America/Denver:20240825T111500
DTSTAMP:20260421T210210
CREATED:20220925T002002Z
LAST-MODIFIED:20240811T222822Z
UID:2903-1724576400-1724584500@www.chalicechristian.org
SUMMARY:Sunday Morning Services
DESCRIPTION:  \nEvery Sunday morning\, Chalice holds hybrid services.  Here.  or this Meeting ID: 688 779 1824  passcode is “church”. \nYou can connect with us via our: \nYouTubeChannel (click on the subscribe button and you will get notification when a post is made) – https://www.youtube.com/channel/UCLTaK6qPgXflAMGvxsPHHkQ/featured  and our Facebook Page – https://www.facebook.com/chalice.church
URL:https://www.chalicechristian.org/event/sunday-morning-services-2/
LOCATION:AZ
END:VEVENT
BEGIN:VEVENT
DTSTART;TZID=America/Denver:20240825T111500
DTEND;TZID=America/Denver:20240825T120000
DTSTAMP:20260421T210210
CREATED:20230909T185709Z
LAST-MODIFIED:20240811T222804Z
UID:3054-1724584500-1724587200@www.chalicechristian.org
SUMMARY:Adult Sunday School
DESCRIPTION:Adult Sunday School \nZoom Link: Here \nLink to the Book : Here
URL:https://www.chalicechristian.org/event/parker/
LOCATION:AZ
END:VEVENT
BEGIN:VEVENT
DTSTART;TZID=America/Denver:20240914T171500
DTEND;TZID=America/Denver:20240914T190000
DTSTAMP:20260421T210210
CREATED:20220806T155016Z
LAST-MODIFIED:20240811T221946Z
UID:2889-1726334100-1726340400@www.chalicechristian.org
SUMMARY:I-HELP: Provide and Food and Shelter to Our Neighbors
DESCRIPTION:We are happy to welcome IHELP on Saturday. \nThe sanctuary will be unlocked after 4:00pm on that day. Set up starts at 5:15pm. Serving will begin at 5:45pm. You are welcome to stay and share a meal with our guests. If you have any questions\, speak to Tami Smull.
URL:https://www.chalicechristian.org/event/i-help-provide-and-food-and-shelter-to-our-neighbors/
LOCATION:AZ
END:VEVENT
BEGIN:VEVENT
DTSTART;TZID=America/Denver:20241003T180000
DTEND;TZID=America/Denver:20241003T200000
DTSTAMP:20260421T210210
CREATED:20231208T021535Z
LAST-MODIFIED:20240811T222715Z
UID:3098-1727978400-1727985600@www.chalicechristian.org
SUMMARY:Leadership Council Meeting
DESCRIPTION:This will be a virtual meeting\, link. \nLeadership Council (LC) Team meeting to be held by Zoom October 3 at 6 p.m. Team leaders\, please email agenda items by Wednesday\, January 31st to Moderator\, Cecilia Johnson at cej5710@gmail.com  Remember\, all are welcome to join\, even if not a team leader.
URL:https://www.chalicechristian.org/event/leadership-council-meeting/
LOCATION:AZ
END:VEVENT
END:VCALENDAR